BEGIN:VCALENDAR
VERSION:2.0
PRODID:-//Revista Suncoast BrazilUSA - ECPv6.15.20//NONSGML v1.0//EN
CALSCALE:GREGORIAN
METHOD:PUBLISH
X-WR-CALNAME:Revista Suncoast BrazilUSA
X-ORIGINAL-URL:https://revistasuncoast.com
X-WR-CALDESC:Eventos para Revista Suncoast BrazilUSA
REFRESH-INTERVAL;VALUE=DURATION:PT1H
X-Robots-Tag:noindex
X-PUBLISHED-TTL:PT1H
BEGIN:VTIMEZONE
TZID:America/New_York
BEGIN:DAYLIGHT
TZOFFSETFROM:-0500
TZOFFSETTO:-0400
TZNAME:EDT
DTSTART:20230312T070000
END:DAYLIGHT
BEGIN:STANDARD
TZOFFSETFROM:-0400
TZOFFSETTO:-0500
TZNAME:EST
DTSTART:20231105T060000
END:STANDARD
BEGIN:DAYLIGHT
TZOFFSETFROM:-0500
TZOFFSETTO:-0400
TZNAME:EDT
DTSTART:20240310T070000
END:DAYLIGHT
BEGIN:STANDARD
TZOFFSETFROM:-0400
TZOFFSETTO:-0500
TZNAME:EST
DTSTART:20241103T060000
END:STANDARD
BEGIN:DAYLIGHT
TZOFFSETFROM:-0500
TZOFFSETTO:-0400
TZNAME:EDT
DTSTART:20250309T070000
END:DAYLIGHT
BEGIN:STANDARD
TZOFFSETFROM:-0400
TZOFFSETTO:-0500
TZNAME:EST
DTSTART:20251102T060000
END:STANDARD
BEGIN:DAYLIGHT
TZOFFSETFROM:-0500
TZOFFSETTO:-0400
TZNAME:EDT
DTSTART:20260308T070000
END:DAYLIGHT
BEGIN:STANDARD
TZOFFSETFROM:-0400
TZOFFSETTO:-0500
TZNAME:EST
DTSTART:20261101T060000
END:STANDARD
END:VTIMEZONE
BEGIN:VEVENT
DTSTART;TZID=America/New_York:20250213T200000
DTEND;TZID=America/New_York:20250213T230000
DTSTAMP:20260421T041558
CREATED:20250107T193657Z
LAST-MODIFIED:20250110T172251Z
UID:1931-1739476800-1739487600@revistasuncoast.com
SUMMARY:Histórias do Porchat – Miami  
DESCRIPTION:Dia: Quinta-feira\, 13 de fevereiro\nHorário: Portas abrem às 7 PM\, início do show as 8PM\nLocal: Manuel Artime Theater\nEndereço:900 SW 1st St\, Miami\, FL 33130\nIngressos a partir de: $49 \nHistórias do Porchat \n\n\n\n\n\n\n\n\nEm 2025\, Fabio Porchat\, um dos mais importantes nomes do humor do Brasil\, apresentará o stand-up “Histórias do Porchat” pela primeira vez nos Estados Unidos. Entre os dias 13 e 23 de fevereiro\, Porchat vai se apresentar em sete cidades norte-americanas: Miami\, Boston\, New York\, São Francisco\, Danbury\, Orlando e Houston (confira informações sobre locais e vendas de ingressos abaixo). \nO artista traz consigo\, pelo quarto ano consecutivo\, um repertório de narrativas que arrancam risadas incontroláveis da plateia pelo mundo. O espetáculo já visitou 26 cidades brasileiras e 6 países ao redor do planeta\, entre eles Espanha\, França\, Portugal\, Suíça\, Irlanda e Angola. Em 2025\, a expectativa é por novos momentos marcantes\, principalmente com o público brasileiro e português que mora ou vai visitar os Estados Unidos neste período. \n“Poder viajar para os Estados Unidos pela primeira vez fazendo show\, por exemplo\, é muito especial\, porque eu encontro pessoas carentes de carinho brasileiro – querendo rir\, se divertir e se conectar. O público é sempre muito receptivo\, carinhoso e interessado\, então é sempre um prazer”\, comenta Porchat. “É muito legal poder fazer o show fora do Brasil para os brasileiros. É um jeito de levar um pedacinho daqui para quem vive lá fora há tanto tempo. Eu percebo muito isso. Sinto que\, de alguma forma\, é um contato que o brasileiro que está fora tem com o país dele\, podendo matar as saudades do país que tanto amamos”\, finaliza. \nAlém dos EUA\, o humorista também já tem em sua agenda internacional de 2025 apresentações em Dubai\, nos Emirados Árabes Unidos\, e em diversas cidades no Canadá. Ao todo\, incluindo o Brasil\, foram 364 sessões realizadas e mais de 310 mil pessoas impactadas.
URL:https://revistasuncoast.com/evento/historias-do-porchat-miami/
LOCATION:Manuel Artime Theater\, 900 SW 1st St\, Miami\, 33130\, United States
CATEGORIES:Teatro
END:VEVENT
BEGIN:VEVENT
DTSTART;TZID=America/New_York:20250125T150000
DTEND;TZID=America/New_York:20250125T180000
DTSTAMP:20260421T041558
CREATED:20250110T182310Z
LAST-MODIFIED:20250110T182310Z
UID:1984-1737817200-1737828000@revistasuncoast.com
SUMMARY:Orlando City x Atlético - Orlando
DESCRIPTION:Dia: Sábado\, 25 de janeiro\nHorário: às 3 PM\nLocal: Inter&Co Stadium\nEndereço:655 W Church St\, Orlando\, FL 32805\nIngressos a partir de: $15 \n  \nFC Series\nA FC Series\, maior evento internacional de futebol no Estado da Flórida\, é uma plataforma global que combina esportes\, música e entretenimento\, está comemorando 10 anos de sua primeira edição. E para marcar esta data especial\, além da participação do time Orlando City\, o evento contará com quatro grandes clubes do futebol brasileiro na próxima edição de janeiro: Clube Atlético Mineiro\, Cruzeiro Esporte Clube\, Flamengo e São Paulo Futebol Clube. As equipes brasileiras embarcam rumo aos Estados Unidos para se prepararem para a temporada de 2025.
URL:https://revistasuncoast.com/evento/orlando-city-x-atletico-orlando/
LOCATION:Inter&Co Stadium\, 655 W Church St\, Orlando\, Florida\, 32805\, United States
END:VEVENT
BEGIN:VEVENT
DTSTART;TZID=America/New_York:20250119T150000
DTEND;TZID=America/New_York:20250119T180000
DTSTAMP:20260421T041558
CREATED:20250110T181913Z
LAST-MODIFIED:20250110T181913Z
UID:1980-1737298800-1737309600@revistasuncoast.com
SUMMARY:São Paulo x Flamengo - Fort Lauderdale
DESCRIPTION:Dia: Domingo\, 19 de janeiro\nHorário: às 3 PM\nLocal: Chase Stadium\nEndereço: 5201 NW 12th Avenue\, Fort Lauderdale\, FL 33309\nIngressos a partir de: $30 \n  \nFC Series\nA FC Series\, maior evento internacional de futebol no Estado da Flórida\, é uma plataforma global que combina esportes\, música e entretenimento\, está comemorando 10 anos de sua primeira edição. E para marcar esta data especial\, além da participação do time Orlando City\, o evento contará com quatro grandes clubes do futebol brasileiro na próxima edição de janeiro: Clube Atlético Mineiro\, Cruzeiro Esporte Clube\, Flamengo e São Paulo Futebol Clube. As equipes brasileiras embarcam rumo aos Estados Unidos para se prepararem para a temporada de 2025.
URL:https://revistasuncoast.com/evento/sao-paulo-x-flamengo-fort-lauderdale/
LOCATION:Chase Stadium\, 5201 NW 12th Avenue\, Fort Lauderdale\, 33309\, United States
END:VEVENT
BEGIN:VEVENT
DTSTART;TZID=America/New_York:20250118T150000
DTEND;TZID=America/New_York:20250118T180000
DTSTAMP:20260421T041558
CREATED:20250110T181416Z
LAST-MODIFIED:20250110T181416Z
UID:1976-1737212400-1737223200@revistasuncoast.com
SUMMARY:Atlético x Cruzeiro - Orlando
DESCRIPTION:Dia: Sábado\, 18 de janeiro\nHorário: às 3 PM\nLocal: Inter&Co Stadium\nEndereço: 655 W Church St\, Orlando\, FL 32805\nIngressos a partir de: $25 \n  \nFC Series\nA FC Series\, maior evento internacional de futebol no Estado da Flórida\, é uma plataforma global que combina esportes\, música e entretenimento\, está comemorando 10 anos de sua primeira edição. E para marcar esta data especial\, além da participação do time Orlando City\, o evento contará com quatro grandes clubes do futebol brasileiro na próxima edição de janeiro: Clube Atlético Mineiro\, Cruzeiro Esporte Clube\, Flamengo e São Paulo Futebol Clube. As equipes brasileiras embarcam rumo aos Estados Unidos para se prepararem para a temporada de 2025.
URL:https://revistasuncoast.com/evento/atletico-x-cruzeiro-orlando/
LOCATION:Inter&Co Stadium\, 655 W Church St\, Orlando\, Florida\, 32805\, United States
END:VEVENT
BEGIN:VEVENT
DTSTART;TZID=America/New_York:20250115T193000
DTEND;TZID=America/New_York:20250115T223000
DTSTAMP:20260421T041558
CREATED:20250110T181011Z
LAST-MODIFIED:20250110T181011Z
UID:1971-1736969400-1736980200@revistasuncoast.com
SUMMARY:Cruzeiro x São Paulo - Orlando
DESCRIPTION:Dia: Quarta-feira\, 15 de janeiro\nHorário: às 7:30 PM\nLocal: Inter&Co Stadium\nEndereço: 655 W Church St\, Orlando\, FL 32805\nIngressos a partir de: $20 \n  \nFC Series\nA FC Series\, maior evento internacional de futebol no Estado da Flórida\, é uma plataforma global que combina esportes\, música e entretenimento\, está comemorando 10 anos de sua primeira edição. E para marcar esta data especial\, além da participação do time Orlando City\, o evento contará com quatro grandes clubes do futebol brasileiro na próxima edição de janeiro: Clube Atlético Mineiro\, Cruzeiro Esporte Clube\, Flamengo e São Paulo Futebol Clube. As equipes brasileiras embarcam rumo aos Estados Unidos para se prepararem para a temporada de 2025. \nCruzeiro x São Paulo\n\n\n\n\nA edição da FC Series em janeiro abrirá com o clássico do futebol brasileiro\, São Paulo x Cruzeiro no dia 15 de janeiro\, no Inter&Co Stadium. O Cruzeiro fará sua estreia no evento\, já o São Paulo participou em outras duas oportunidades da então Florida Cup.
URL:https://revistasuncoast.com/evento/cruzeiro-x-sao-paulo-orlando/
LOCATION:Inter&Co Stadium\, 655 W Church St\, Orlando\, Florida\, 32805\, United States
END:VEVENT
BEGIN:VEVENT
DTSTART;TZID=America/New_York:20250111T073000
DTEND;TZID=America/New_York:20250112T210000
DTSTAMP:20260421T041558
CREATED:20250107T201000Z
LAST-MODIFIED:20250107T201403Z
UID:1946-1736580600-1736715600@revistasuncoast.com
SUMMARY:Poder do Network Conference
DESCRIPTION:Dia: Sábado\, 11 de janeiro e Domingo\, 12 de janeiro\nHorário: Portas abrem às 7:30 AM\nLocal: Hyatt Regency Orlando\, Espaço de Convenções\nEndereço: 9081 International Dr\, Orlando\, FL 32819\nIngressos a partir de: $149 \n  \nPoder do Network Conference\n\n\n\n\n\nO Poder do Network Conference terá 19 palestrantes renomados\, incluindo Thiago Nigro\, Thiago Brunet\, Deive Leonardo\, Joel Jota\, Pablo Marcal\, Chefe Putzu\, Samuel Pereira\, João Kepler\, Marcus Marques\, Tiago Fonseca\, Leandro Aguiar\, SEU Elias\, Paulo Kazak\, Tassio Renam\, Natalia Beauty\, Maira Cardi\, Nezio Monteiro e Adriana Alves que vão compartilhar estratégias práticas e inspiração para transformar vidas e empresas.
URL:https://revistasuncoast.com/evento/poder-do-network-conference/
LOCATION:Hyatt Regency Orlando\, 9081 International Dr\, Orlando\, 32819\, United States
END:VEVENT
BEGIN:VEVENT
DTSTART;TZID=America/New_York:20241019T150000
DTEND;TZID=America/New_York:20241019T150000
DTSTAMP:20260421T041558
CREATED:20240707T023300Z
LAST-MODIFIED:20240821T165547Z
UID:1831-1729350000-1729350000@revistasuncoast.com
SUMMARY:Gusttavo Lima
DESCRIPTION:Gusttavo Lima Buteco Miami “A Despedida”\nDia: Sábado\, 19 de Outubro\nHorário: 3PM\nLocal: Miami Marine Stadium – Key Biscayne\, FL\nIngressos a partir de: $99 \n  \n\n\n\nBUTECO\, A DESPEDIDA\n\n\n\n\n\nO maior Buteco do mundo está chegando ao seu capítulo final! Em 2024\, o festival idealizado pelo artista Gusttavo Lima realizará a sua última turnê\, afinal\, toda boa história um dia chega ao fim. A despedida não será um adeus triste\, mas sim um brinde à jornada incrível que compartilhamos. \nCada capítulo da história do Buteco será celebrado e o último ato do espetáculo será assistido com alegria e gratidão. Os butequeiros e as butequeiras podem se preparar para uma saideira inesquecível que ficará para sempre em todos os corações. \nCom todo o seu pioneirismo\, grandiosidade e quebra de records\, o evento já ultrapassou a marca de mais de 100 edições\, recebeu mais de 60 atrações regionais e nacionais\, e passou por 47 cidades no Brasil e Boston nos EUA. Em 2024\, 15 edições vão contemplar as principais cidades no Brasil e nos Estados Unidos. \nO maior Buteco do mundo \nO Buteco é um festival de música criado pelo artista Gusttavo Lima\, em 2018. Já foi realizado em mais de 23 capitais brasileiras\, além de uma edição especial na cidade de Boston\, nos Estados Unidos. É um dos maiores e mais esperados eventos de música da atualidade\, se consagrou como um dos festivais mais amados do país e não é por acaso. Mais de 40 artistas já se apresentaram no evento\, um line-up escolhido a dedo pelo anfitrião da festa\, Gusttavo Lima\, o qual realiza o super-show de encerramento\, com direito a uma performance acústica no segundo palco em formato 360º. \nO line-up do Buteco traz um mix de estilos musicais\, com grandes nomes reconhecidos no Brasil e no exterior\, além de novos nomes em ascensão\, que ocupam o topo das paradas de sucesso do país. \nGrandes artistas passaram pelos palcos do maior Buteco do mundo\, e os recordes de público chamam atenção por onde o Buteco passa\, destacando-se as edições de Belo Horizonte-MG (+75 mil pessoas)\, Goiânia-GO (+50 mil pessoas) e Brasília-DF (+45 mil pessoas). \nO conceito surgiu ainda em 2014\, com o DVD “Buteco do Gusttavo Lima”\, que reunia grandes clássicos do sertanejo e as famosas “modas de viola”. O segundo volume do álbum foi lançado em 2017 e deu origem a uma turnê\, que posteriormente se transformou no festival comandado por Gusttavo.
URL:https://revistasuncoast.com/evento/gusttavo-lima/
LOCATION:Miami Marine Stadium\, 3501 Rickenbacker Cswy\, Key Biscayne\, Flórida\, 33149\, Estados Unidos
CATEGORIES:Música
END:VEVENT
BEGIN:VEVENT
DTSTART;TZID=America/New_York:20240927T210000
DTEND;TZID=America/New_York:20240927T235900
DTSTAMP:20260421T041558
CREATED:20240821T165045Z
LAST-MODIFIED:20240821T165045Z
UID:1839-1727470800-1727481540@revistasuncoast.com
SUMMARY:LU FOSSI - Pompano Beach
DESCRIPTION:Lu Fossi em Pomano Beach\nDia: Sexta-feira\, 27 de Setembro\nHorário: 9PM\nLocal: Arion Event Center – 2900 W Sample Rd W Turnpike\, Pompano Beach\, FL\nIngressos a partir de: $35 \n  \n  \n  \n  \n  \n 
URL:https://revistasuncoast.com/evento/lu-fossi-pompano-beach/
LOCATION:Arion Event Center\, 2900 W Sample Rd\, Pompano Beach\, Flórida\, 33073\, Estados Unidos
CATEGORIES:Música
END:VEVENT
BEGIN:VEVENT
DTSTART;TZID=America/New_York:20240802T190000
DTEND;TZID=America/New_York:20240802T190000
DTSTAMP:20260421T041558
CREATED:20240706T235300Z
LAST-MODIFIED:20240707T020555Z
UID:1798-1722625200-1722625200@revistasuncoast.com
SUMMARY:Conferência UNIQUE
DESCRIPTION:Conferência UNIQUE 2024\nDia: Sexta\, 2 de agosto\nHorário: 7PM às 9:30PM \nDia: Sábado\, 3 de agosto\nHorário: 9AM às 6PM \nLocal: Igreja Batista da Paz – Tampa\, FL \n7601 Jackson Springs Road Tampa\, FL 33615 \n\n\n\n\n\n\n\n\n\n 
URL:https://revistasuncoast.com/evento/conferencia-unique/
LOCATION:IBPaz\, 7601 Jackson Springs Road\, Tampa\, Flórida\, 33615\, Estados Unidos
CATEGORIES:Religioso
END:VEVENT
BEGIN:VEVENT
DTSTART;TZID=America/New_York:20240727T210000
DTEND;TZID=America/New_York:20240727T210000
DTSTAMP:20260421T041558
CREATED:20240707T015959Z
LAST-MODIFIED:20240707T015959Z
UID:1823-1722114000-1722114000@revistasuncoast.com
SUMMARY:Jorge Aragão
DESCRIPTION:Jorge Aragão\nDia: Sábado\, 27 de Julho\nHorário: 9PM\nLocal: Oceanside Events Center\, Revere – MA\nIngressos a partir de: $55 \n\n\nJORGE ARAGÃO\n\n\n\n\nJorge Aragão\, um dos maiores nomes do samba brasileiro está se apresentando nos Estados Unidos.\nDesde os anos 70\, o carioca conquista corações com seu talento inigualável. Como um verdadeiro mestre do gênero\, Aragão traz inovação sem perder a essência. Suas músicas\, eternizadas nas vozes de lendas como Beth Carvalho\, Alcione\, Zeca Pagodinho e muitos outros\, continuam encantando públicos de todas as idades e nacionalidades.
URL:https://revistasuncoast.com/evento/jorge-aragao-2/
LOCATION:Oceanside Events Center\, 1290 N Shore Rd\, Revere\, Massachusetts\, 02151\, Estados Unidos
CATEGORIES:Música
END:VEVENT
BEGIN:VEVENT
DTSTART;TZID=America/New_York:20240726T210000
DTEND;TZID=America/New_York:20240726T210000
DTSTAMP:20260421T041558
CREATED:20240707T014542Z
LAST-MODIFIED:20240707T014542Z
UID:1818-1722027600-1722027600@revistasuncoast.com
SUMMARY:Jorge Aragão
DESCRIPTION:Jorge Aragão\nDia: Sexta\, 26 de Julho\nHorário: 9PM\nLocal: Arion Event Center\, Pompano Beach – FL\nIngressos a partir de: $50 \n\n\nJORGE ARAGÃO\n\n\n\n\nJorge Aragão\, um dos maiores nomes do samba brasileiro está se apresentando nos Estados Unidos.\nDesde os anos 70\, o carioca conquista corações com seu talento inigualável. Como um verdadeiro mestre do gênero\, Aragão traz inovação sem perder a essência. Suas músicas\, eternizadas nas vozes de lendas como Beth Carvalho\, Alcione\, Zeca Pagodinho e muitos outros\, continuam encantando públicos de todas as idades e nacionalidades.
URL:https://revistasuncoast.com/evento/jorge-aragao/
LOCATION:Arion Event Center\, 2900 W Sample Rd\, Pompano Beach\, Flórida\, 33073\, Estados Unidos
CATEGORIES:Música
END:VEVENT
BEGIN:VEVENT
DTSTART;TZID=America/New_York:20240720T210000
DTEND;TZID=America/New_York:20240720T210000
DTSTAMP:20260421T041558
CREATED:20240707T021812Z
LAST-MODIFIED:20240707T021812Z
UID:1827-1721509200-1721509200@revistasuncoast.com
SUMMARY:Pixote e Convidados
DESCRIPTION:Pixote e Convidados\nDia: Sábado\, 20 de Julho\nHorário: 9PM\nLocal: Arion Event Center\, Pompano Beach – FL\nIngressos a partir de: $49 \n\n\nGRUPO PIXOTE\nGrupo Pixote é um grupo brasileiro de pagode romântico e Pop\, criado nos anos 90\, originário do bairro de Cidade Tiradentes\, zona leste de São Paulo\, local onde cresceu o vocalista Dodô.
URL:https://revistasuncoast.com/evento/pixote-e-convidados/
LOCATION:Arion Event Center\, 2900 W Sample Rd\, Pompano Beach\, Flórida\, 33073\, Estados Unidos
CATEGORIES:Música
END:VEVENT
BEGIN:VEVENT
DTSTART;TZID=America/New_York:20240714T193000
DTEND;TZID=America/New_York:20240714T193000
DTSTAMP:20260421T041558
CREATED:20240707T000751Z
LAST-MODIFIED:20240707T001820Z
UID:1807-1720985400-1720985400@revistasuncoast.com
SUMMARY:Marco Luque em Dilatados
DESCRIPTION:Marco Luque em Dilatados\nDia: Domingo\, 14 de Julho\nHorário: 7:30PM\nLocal: DR. PHILLIPS CENTER – Orlando\,  FL\nIngressos a partir de: $25 \n  \n\n\nCONHEÇA MAIS O MARCO LUQUE\n\n\n\n\nCom direção de Marco Luque e Guilherme Rocha\, o ator\, humorista e empresário sobe aos palcos do país e do mundo com o espetáculo “Dilatados”.\nDurante a apresentação\, Luque traz Mustafary\, um vegetariano irônico e controverso\, que prega a sustentabilidade do planeta\, ama os animais\, a natureza e\, principalmente\, seu cachorro “Serumaninho”\, além de Jackson Faive\, o motoboy paulistano mais famoso do Brasil para trocar ideia sobre tudo de mais dilatado que vem ocorrendo nessa biosfera terrestre. \nO artista multifacetado\, com sua versatilidade comprovada desde a bancada do CQC (TV Band)\, pela audiência na rádio Mix\, no Altas Horas e na Nova Escolinha do Professor Raimundo (TV Globo)\, extrapola o humor neste show\, em que ele também exibe performances musicais e de dança. O espetáculo leva legiões de fãs aos teatros nacionais há anos e\, em 2023\, a produção chegou também à Europa\, onde o artista se apresentou em países como Portugal\, Bélgica\, Espanha\, Irlanda\, Suíça e Inglaterra.
URL:https://revistasuncoast.com/evento/marco-luque-em-dilatados/
LOCATION:DR. PHILLIPS CENTER\, 445 South Magnolia Avenue\, Orlando\, Flórida\, 32801\, Estados Unidos
CATEGORIES:Teatro
END:VEVENT
BEGIN:VEVENT
DTSTART;TZID=America/New_York:20240713T200000
DTEND;TZID=America/New_York:20240713T200000
DTSTAMP:20260421T041558
CREATED:20240707T001608Z
LAST-MODIFIED:20240707T001608Z
UID:1813-1720900800-1720900800@revistasuncoast.com
SUMMARY:Marco Luque em Dilatados
DESCRIPTION:Marco Luque em Dilatados\nDia: Domingo\, 13 de Julho\nHorário: 8PM\nLocal: LAUDERHILL PERFORMING ARTS CENTER – Lauderhill\, FL\nIngressos a partir de: $25 \n  \n\n\nCONHEÇA MAIS O MARCO LUQUE\n\n\n\n\nCom direção de Marco Luque e Guilherme Rocha\, o ator\, humorista e empresário sobe aos palcos do país e do mundo com o espetáculo “Dilatados”.\nDurante a apresentação\, Luque traz Mustafary\, um vegetariano irônico e controverso\, que prega a sustentabilidade do planeta\, ama os animais\, a natureza e\, principalmente\, seu cachorro “Serumaninho”\, além de Jackson Faive\, o motoboy paulistano mais famoso do Brasil para trocar ideia sobre tudo de mais dilatado que vem ocorrendo nessa biosfera terrestre. \nO artista multifacetado\, com sua versatilidade comprovada desde a bancada do CQC (TV Band)\, pela audiência na rádio Mix\, no Altas Horas e na Nova Escolinha do Professor Raimundo (TV Globo)\, extrapola o humor neste show\, em que ele também exibe performances musicais e de dança. O espetáculo leva legiões de fãs aos teatros nacionais há anos e\, em 2023\, a produção chegou também à Europa\, onde o artista se apresentou em países como Portugal\, Bélgica\, Espanha\, Irlanda\, Suíça e Inglaterra.
URL:https://revistasuncoast.com/evento/marco-luque-em-dilatados-2/
LOCATION:LAUDERHILL PERFORMING ARTS CENTER\, 3800 NW 11th Pl\, Lauderhill\, Flórida\, 33311\, Estados Unidos
CATEGORIES:Teatro
END:VEVENT
BEGIN:VEVENT
DTSTART;TZID=America/New_York:20240707T220000
DTEND;TZID=America/New_York:20240707T220000
DTSTAMP:20260421T041558
CREATED:20240706T145804Z
LAST-MODIFIED:20240706T150955Z
UID:1784-1720389600-1720389600@revistasuncoast.com
SUMMARY:Jota Quest 25
DESCRIPTION:Jota Quest – Live in Miami\n 7 de July\, 2024 às 10:00 pm \n\n Revolution Live – 100 SW 3rd Ave\, Fort Lauderdale\, FL 33312\, USA\n10:00 pm to 02:00 am\nIdade mínima: 16 anos (acompanhado de um adulto)
URL:https://revistasuncoast.com/evento/jota-quest-25-2/
LOCATION:Revolution Live\, 100 SW 3rd Ave\, Fort Lauderdale\, Flórida\, 33312\, Estados Unidos
CATEGORIES:Música
END:VEVENT
BEGIN:VEVENT
DTSTART;TZID=America/New_York:20240706T150000
DTEND;TZID=America/New_York:20240706T150000
DTSTAMP:20260421T041558
CREATED:20240706T041554Z
LAST-MODIFIED:20240706T151045Z
UID:1762-1720278000-1720278000@revistasuncoast.com
SUMMARY:Jota Quest 25
DESCRIPTION:INGRESSOS GENERAL ADMISSION : GRATUITO ( LIMITE 2 INGRESSOS POR EMAIL ) \n( CRIANCAS MENORES DE 16 ANOS SOMENTE ACOMPANHADOS DOS PAIS )
URL:https://revistasuncoast.com/evento/jota-quest-25/
LOCATION:Inter&Co Stadium\, 655 W Church St\, Orlando\, Florida\, 32805\, United States
CATEGORIES:Música
END:VEVENT
END:VCALENDAR